BEGIN:VCALENDAR
VERSION:2.0
PRODID:-//Heparks v2 Staging - ECPv6.15.17.1//NONSGML v1.0//EN
CALSCALE:GREGORIAN
METHOD:PUBLISH
X-ORIGINAL-URL:https://v2-heparks.prolificdigital.io
X-WR-CALDESC:Events for Heparks v2 Staging
REFRESH-INTERVAL;VALUE=DURATION:PT1H
X-Robots-Tag:noindex
X-PUBLISHED-TTL:PT1H
BEGIN:VTIMEZONE
TZID:America/Chicago
BEGIN:DAYLIGHT
TZOFFSETFROM:-0600
TZOFFSETTO:-0500
TZNAME:CDT
DTSTART:20250309T080000
END:DAYLIGHT
BEGIN:STANDARD
TZOFFSETFROM:-0500
TZOFFSETTO:-0600
TZNAME:CST
DTSTART:20251102T070000
END:STANDARD
BEGIN:DAYLIGHT
TZOFFSETFROM:-0600
TZOFFSETTO:-0500
TZNAME:CDT
DTSTART:20260308T080000
END:DAYLIGHT
BEGIN:STANDARD
TZOFFSETFROM:-0500
TZOFFSETTO:-0600
TZNAME:CST
DTSTART:20261101T070000
END:STANDARD
BEGIN:DAYLIGHT
TZOFFSETFROM:-0600
TZOFFSETTO:-0500
TZNAME:CDT
DTSTART:20270314T080000
END:DAYLIGHT
BEGIN:STANDARD
TZOFFSETFROM:-0500
TZOFFSETTO:-0600
TZNAME:CST
DTSTART:20271107T070000
END:STANDARD
END:VTIMEZONE
BEGIN:VEVENT
DTSTART;TZID=America/Chicago:20260307T183000
DTEND;TZID=America/Chicago:20260307T203000
DTSTAMP:20260419T101146
CREATED:20251029T050000Z
LAST-MODIFIED:20260128T193948Z
UID:10000043-1772908200-1772915400@v2-heparks.prolificdigital.io
SUMMARY:Mom & Son Western Activity Night
DESCRIPTION:MOM & SON Western Activity Night  \nSaddle up for a Western-themed evening! Enjoy games\, fun activities\, line dancing\, and a build-your-own ice cream bar. Dust off your boots and hats—it’s time to lasso some memories together! \n\n\nLocation: Triphahn Center & Ice Arena \n\n\nDate & Time: Friday\, 3/7\, 6:30–8:00 PM \n\n\nFee: $20/$25 per person (ages 4 and up) \n\n\n Code: 315902-E
URL:https://v2-heparks.prolificdigital.io/event/mom-son-western-activity-night/
LOCATION:Triphahn Center & Ice Arena
CATEGORIES:Special Events
ATTACH;FMTTYPE=image/png:https://v2-heparks.prolificdigital.io/wp-content/uploads/2025/12/Mom-Son-Western-Activity_Web-Events.png
END:VEVENT
BEGIN:VEVENT
DTSTART;TZID=America/Chicago:20260315T113000
DTEND;TZID=America/Chicago:20260315T130000
DTSTAMP:20260419T101146
CREATED:20260223T193919Z
LAST-MODIFIED:20260304T191736Z
UID:10000055-1773574200-1773579600@v2-heparks.prolificdigital.io
SUMMARY:Friends of HEParks Day - St. Patrick's Day Public Skate
DESCRIPTION:Celebrate St. Patrick’s Day on the ice while giving back to the community at the Friends of HEParks Days – St. Patrick’s Day Public Skate! 🍀⛸️ \n100% of event admissions benefit the Friends of HEParks Foundation\, helping at-risk families in Hoffman Estates enjoy recreational opportunities they might not otherwise have access to. The Foundation is made up of dedicated community volunteers who raise funds so residents of all ages and abilities can participate in programs—regardless of social\, physical\, or economic limitations—supporting the shared mission of the Foundation and the Hoffman Estates Park District to promote health and well-being through first-class facilities and programs. Register here! \nRegistration & Pricing: \n🍀Online registration: $7/person \n🍀Walk-in registration: $10/person (space permitting) \n🍀Skate rental: $4 \nSkate rentals and skate aides are limited and available on a first-come\, first-served basis. \nWant to support the cause even more? Donations can be made by visiting the Hoffman Estates Park District Foundation page: https://www.heparks.org/about/get-involved/friends-of-heparks-foundation/
URL:https://v2-heparks.prolificdigital.io/event/friends-of-heparks-day-st-patricks-day-public-skate/
LOCATION:Triphahn Center & Ice Arena
CATEGORIES:Foundation Events,Public Skate,Special Events
ATTACH;FMTTYPE=image/png:https://v2-heparks.prolificdigital.io/wp-content/uploads/2026/02/Friends-of-HEParks_St-Patricks-Skate.png
END:VEVENT
BEGIN:VEVENT
DTSTART;TZID=America/Chicago:20260317T130000
DTEND;TZID=America/Chicago:20260317T143000
DTSTAMP:20260419T101146
CREATED:20260212T175321Z
LAST-MODIFIED:20260316T141211Z
UID:10000048-1773752400-1773757800@v2-heparks.prolificdigital.io
SUMMARY:50+ Shamrock Bingo
DESCRIPTION:50+ Shamrock Bingo\nCelebrate St. Patrick’s Day with an afternoon of fun at 50 Plus Shamrock Bingo! Wear your green and enjoy a cozy gathering filled with bingo\, prizes\, coffee\, and sweet treats. It’s the perfect way to spend the afternoon with friends and a little Irish luck. \nDate: March 17\, 2026Time: 1:00–2:30 PMLocation: Triphahn Activity RoomFee: $5Program Code: 215317-C \nCome for the bingo\, stay for the laughs—and don’t forget to wear green!
URL:https://v2-heparks.prolificdigital.io/event/50-shamrock-bingo/
LOCATION:Triphahn Center & Ice Arena
CATEGORIES:50+ Events
ATTACH;FMTTYPE=image/png:https://v2-heparks.prolificdigital.io/wp-content/uploads/2026/02/shamrock-bingo.png
END:VEVENT
BEGIN:VEVENT
DTSTART;TZID=America/Chicago:20260328T110000
DTEND;TZID=America/Chicago:20260328T123000
DTSTAMP:20260419T101146
CREATED:20260212T180101Z
LAST-MODIFIED:20260318T211857Z
UID:10000049-1774695600-1774701000@v2-heparks.prolificdigital.io
SUMMARY:Breakfast with Bunny
DESCRIPTION:Join us for our popular Breakfast with Bunny!\n11:00 AM – seating \nAdults $30.95* | Children (4-12) $19.95* | (3 & Under) FREE\n(*Plus Tax and 20% Gratuity) \nYou’ll get a chance to meet the Bunny so bring your camera to take your picture with him! \nClick here for details.
URL:https://v2-heparks.prolificdigital.io/event/breakfast-with-bunny/
LOCATION:Bridges of Poplar Creek Country Club
CATEGORIES:Special Events
ATTACH;FMTTYPE=image/png:https://v2-heparks.prolificdigital.io/wp-content/uploads/2026/02/BPC-HEPD-EMAIL-2026-Breakfast-with-Bunny-3-28-26-V2.png
END:VEVENT
BEGIN:VEVENT
DTSTART;TZID=America/Chicago:20260329T010000
DTEND;TZID=America/Chicago:20260329T163000
DTSTAMP:20260419T101146
CREATED:20260305T182621Z
LAST-MODIFIED:20260316T141709Z
UID:10000056-1774746000-1774801800@v2-heparks.prolificdigital.io
SUMMARY:Doggie Egg Hunt
DESCRIPTION:Grab a leash and a basket—it’s time for the Doggie Egg Hunt! Dogs of all ages are invited to sniff out colorful eggs filled with treats and prizes. \nPups will hunt in two separate groups based on weight so everyone has a fair chance to find eggs. Keep your eyes (and noses) open for special Bonus Eggs with extra prizes inside! \nEvent Details:March 29Bo’s Run Dog Park | 1–2 PMFreedom Run Dog Park | 3:30–4:30 PM \nDogs must remain on leash with visible tags during the event.Please arrive 15 minutes early for check-in.Parking is limited—please plan accordingly. \nIf you do not currently have an active dog park membership\, please email proof of vaccinations to dogparks@heparks.org prior to the event. \nSpots fill quickly—pre-registration is required. \nRegister today: https://hov.to/3b1a02d8
URL:https://v2-heparks.prolificdigital.io/event/doggie-egg-hunt/
LOCATION:Bo’s Run Dog Park\, 3600 Lexington Dr
CATEGORIES:Dog Events
ATTACH;FMTTYPE=image/png:https://v2-heparks.prolificdigital.io/wp-content/uploads/2026/03/doggie-egg-hunt-event.png
ORGANIZER;CN="William Anderson":MAILTO:wanderson@heparks.org
GEO:42.0881545;-88.1057646
X-APPLE-STRUCTURED-LOCATION;VALUE=URI;X-ADDRESS=Bo’s Run Dog Park 3600 Lexington Dr;X-APPLE-RADIUS=500;X-TITLE=3600 Lexington Dr:geo:-88.1057646,42.0881545
END:VEVENT
END:VCALENDAR