BEGIN:VCALENDAR
VERSION:2.0
PRODID:-//Heparks v2 Staging - ECPv6.15.17.1//NONSGML v1.0//EN
CALSCALE:GREGORIAN
METHOD:PUBLISH
X-ORIGINAL-URL:https://v2-heparks.prolificdigital.io
X-WR-CALDESC:Events for Heparks v2 Staging
REFRESH-INTERVAL;VALUE=DURATION:PT1H
X-Robots-Tag:noindex
X-PUBLISHED-TTL:PT1H
BEGIN:VTIMEZONE
TZID:America/Chicago
BEGIN:DAYLIGHT
TZOFFSETFROM:-0600
TZOFFSETTO:-0500
TZNAME:CDT
DTSTART:20240310T080000
END:DAYLIGHT
BEGIN:STANDARD
TZOFFSETFROM:-0500
TZOFFSETTO:-0600
TZNAME:CST
DTSTART:20241103T070000
END:STANDARD
BEGIN:DAYLIGHT
TZOFFSETFROM:-0600
TZOFFSETTO:-0500
TZNAME:CDT
DTSTART:20250309T080000
END:DAYLIGHT
BEGIN:STANDARD
TZOFFSETFROM:-0500
TZOFFSETTO:-0600
TZNAME:CST
DTSTART:20251102T070000
END:STANDARD
BEGIN:DAYLIGHT
TZOFFSETFROM:-0600
TZOFFSETTO:-0500
TZNAME:CDT
DTSTART:20260308T080000
END:DAYLIGHT
BEGIN:STANDARD
TZOFFSETFROM:-0500
TZOFFSETTO:-0600
TZNAME:CST
DTSTART:20261101T070000
END:STANDARD
END:VTIMEZONE
BEGIN:VEVENT
DTSTART;TZID=America/Chicago:20251107T090000
DTEND;TZID=America/Chicago:20251107T110000
DTSTAMP:20260419T162641
CREATED:20251023T050000Z
LAST-MODIFIED:20251212T214743Z
UID:10000041-1762506000-1762513200@v2-heparks.prolificdigital.io
SUMMARY:Senior Center OPEN HOUSE
DESCRIPTION:✨ Discover\, Connect & Have Fun! ✨Join us for the Senior Center Open House at the Triphahn Center    Friday\, November 7  9–11 AM \nFREE Event!Enjoy demo classes\, clubs\, group activities\, vendors\, raffles\, snacks & more!Bring a friend and see all the ways to stay active and social with HEParks.
URL:https://v2-heparks.prolificdigital.io/event/senior-center-open-house/
CATEGORIES:50+ Events,Special Events
ATTACH;FMTTYPE=image/png:https://v2-heparks.prolificdigital.io/wp-content/uploads/2025/12/Senior-Open-House-web-page.png
END:VEVENT
BEGIN:VEVENT
DTSTART;TZID=America/Chicago:20251122T100000
DTEND;TZID=America/Chicago:20251122T140000
DTSTAMP:20260419T162641
CREATED:20250529T050000Z
LAST-MODIFIED:20251212T214743Z
UID:10000024-1763805600-1763820000@v2-heparks.prolificdigital.io
SUMMARY:Holiday Craft Fair
DESCRIPTION:Our Fourth Annual Holiday Craft Fair will be held on Saturday\, November 22.  Start your holiday shopping with local crafters here at HEParks! Admission is FREE for all shoppers. \nVendors can register to showcase their handcrafted and homemade items and at-home businesses. Vendors must bring their own tables and chairs and arrive by 8:30 am. Vendor registration is required to participate. \n  \nClick here for craft fair application.\n  \nSign up with Activity Code 245960-A \n(Vendor Fee – The Club at Prairie Stone) \nSa                           10:00A-2:00P        11/22                     $35 / $35 \n 
URL:https://v2-heparks.prolificdigital.io/event/holiday-craft-fair/
CATEGORIES:Special Events
ATTACH;FMTTYPE=image/jpeg:https://v2-heparks.prolificdigital.io/wp-content/uploads/2025/12/HolidayCraftFair-square-e1761849802769.jpg
END:VEVENT
BEGIN:VEVENT
DTSTART;TZID=America/Chicago:20251129T170000
DTEND;TZID=America/Chicago:20251129T190000
DTSTAMP:20260419T162641
CREATED:20250409T050000Z
LAST-MODIFIED:20251212T214743Z
UID:10000015-1764435600-1764442800@v2-heparks.prolificdigital.io
SUMMARY:*CANCELLED* - Light Up The Garden
DESCRIPTION:*Due to the expected snowstorm and to ensure the safety of our guests and staff\, we have decided to cancel the event scheduled for this Saturday. We appreciate your understanding and look forward to welcoming the community at our other winter events.
URL:https://v2-heparks.prolificdigital.io/event/cancelled-light-up-the-garden/
ATTACH;FMTTYPE=image/png:https://v2-heparks.prolificdigital.io/wp-content/uploads/2025/12/BPC-HEPD-EMAIL-Light-Up-The-Garden-11-29-25-V4.png
END:VEVENT
BEGIN:VEVENT
DTSTART;TZID=America/Chicago:20251130T100000
DTEND;TZID=America/Chicago:20251130T120000
DTSTAMP:20260419T162641
CREATED:20250409T050000Z
LAST-MODIFIED:20251212T214743Z
UID:10000016-1764496800-1764504000@v2-heparks.prolificdigital.io
SUMMARY:*CANCELLED* Toptracer Range: Sensory Sensitive Event
DESCRIPTION:*CANCELLED* \n*Due to the continued snowstorm and to ensure the safety of our guests and staff\, we have decided to cancel the event scheduled for today at Toptracer Range. \nWe appreciate your understanding and look forward to welcoming the community at our other winter events.
URL:https://v2-heparks.prolificdigital.io/event/cancelled-toptracer-range-sensory-sensitive-event/
ATTACH;FMTTYPE=image/png:https://v2-heparks.prolificdigital.io/wp-content/uploads/2025/12/BPC-HEPD-Email-Toptracer-Family-Day-Sensory-Sensitive-11-30-25-Cancelled.png
END:VEVENT
BEGIN:VEVENT
DTSTART;TZID=America/Chicago:20251130T130000
DTEND;TZID=America/Chicago:20251130T160000
DTSTAMP:20260419T162641
CREATED:20250409T050000Z
LAST-MODIFIED:20251212T214743Z
UID:10000017-1764507600-1764518400@v2-heparks.prolificdigital.io
SUMMARY:*CANCELLED* Toptracer Range: Family Day
DESCRIPTION:*CANCELLED* \n*Due to the continued snowstorm and to ensure the safety of our guests and staff\, we have decided to cancel the event scheduled for today at Toptracer Range. \nWe appreciate your understanding and look forward to welcoming the community at our other winter events.
URL:https://v2-heparks.prolificdigital.io/event/cancelled-toptracer-range-family-day/
ATTACH;FMTTYPE=image/png:https://v2-heparks.prolificdigital.io/wp-content/uploads/2025/12/BPC-HEPD-Email-Toptracer-Family-Day-11-30-25-Cancelled.png
END:VEVENT
END:VCALENDAR