BEGIN:VCALENDAR
VERSION:2.0
PRODID:-//Heparks v2 Staging - ECPv6.15.17.1//NONSGML v1.0//EN
CALSCALE:GREGORIAN
METHOD:PUBLISH
X-WR-CALNAME:Heparks v2 Staging
X-ORIGINAL-URL:https://v2-heparks.prolificdigital.io
X-WR-CALDESC:Events for Heparks v2 Staging
REFRESH-INTERVAL;VALUE=DURATION:PT1H
X-Robots-Tag:noindex
X-PUBLISHED-TTL:PT1H
BEGIN:VTIMEZONE
TZID:America/Chicago
BEGIN:DAYLIGHT
TZOFFSETFROM:-0600
TZOFFSETTO:-0500
TZNAME:CDT
DTSTART:20240310T080000
END:DAYLIGHT
BEGIN:STANDARD
TZOFFSETFROM:-0500
TZOFFSETTO:-0600
TZNAME:CST
DTSTART:20241103T070000
END:STANDARD
BEGIN:DAYLIGHT
TZOFFSETFROM:-0600
TZOFFSETTO:-0500
TZNAME:CDT
DTSTART:20250309T080000
END:DAYLIGHT
BEGIN:STANDARD
TZOFFSETFROM:-0500
TZOFFSETTO:-0600
TZNAME:CST
DTSTART:20251102T070000
END:STANDARD
BEGIN:DAYLIGHT
TZOFFSETFROM:-0600
TZOFFSETTO:-0500
TZNAME:CDT
DTSTART:20260308T080000
END:DAYLIGHT
BEGIN:STANDARD
TZOFFSETFROM:-0500
TZOFFSETTO:-0600
TZNAME:CST
DTSTART:20261101T070000
END:STANDARD
END:VTIMEZONE
BEGIN:VEVENT
DTSTART;VALUE=DATE:20251004
DTEND;VALUE=DATE:20251005
DTSTAMP:20260419T174727
CREATED:20250325T050000Z
LAST-MODIFIED:20251212T214744Z
UID:10000012-1759536000-1759622399@v2-heparks.prolificdigital.io
SUMMARY:Friends of HEParks Days - Toptracer Range
DESCRIPTION:Hit the Range – Help the Community \n  Date: October 4\, 2025  Location: Toptracer Range\, Bridges of Poplar Creek\nCome enjoy a day at the range and make a difference! A portion of the proceeds from the event will benefit the Friends of HEParks Foundation\, supporting at-risk families in Hoffman Estates by providing access to recreational programs.\nLearn more about the foundation or donate here.\nThe Friends of HEParks Foundation is a dedicated group of community volunteers who raise money so that more residents can participate in and enjoy recreational opportunities\, regardless of their social\, physical or economic circumstances and limitations. It is the mission of the Hoffman Estates Park District and the Foundation to promote the health and well being of residents through first class facilities and programs.
URL:https://v2-heparks.prolificdigital.io/event/friends-of-heparks-days-toptracer-range/
CATEGORIES:Foundation Events
ATTACH;FMTTYPE=image/png:https://v2-heparks.prolificdigital.io/wp-content/uploads/2025/12/Friends-of-HEParks-Days_Toptracer-Range.png
END:VEVENT
BEGIN:VEVENT
DTSTART;TZID=America/Chicago:20251004T090000
DTEND;TZID=America/Chicago:20251004T120000
DTSTAMP:20260419T174727
CREATED:20250903T050000Z
LAST-MODIFIED:20251212T214744Z
UID:10000029-1759568400-1759579200@v2-heparks.prolificdigital.io
SUMMARY:Open House at The Club
DESCRIPTION:Its our anniversary and we’re celebrating 25 Years Strong! \nJoin us at our Open House on Saturday\, October 4th from 9am – 12pm for free classes\, fun activities\, vendors\, prizes\, and more. \nFree to attend\, so bring your family and friends! \nClick here for more details. \n*(Events\, classes\, and vendors are subject to change without notice.)
URL:https://v2-heparks.prolificdigital.io/event/open-house-at-the-club/
ATTACH;FMTTYPE=image/png:https://v2-heparks.prolificdigital.io/wp-content/uploads/2025/12/THE-CLUB-SOCIAL-SQUARE-2025-Open-House-10-4-25-Event-Preview.png
END:VEVENT
BEGIN:VEVENT
DTSTART;TZID=America/Chicago:20251005T113000
DTEND;TZID=America/Chicago:20251005T130000
DTSTAMP:20260419T174727
CREATED:20250909T050000Z
LAST-MODIFIED:20251212T214744Z
UID:10000031-1759663800-1759669200@v2-heparks.prolificdigital.io
SUMMARY:Ascension Pink the Rink Public Skate
DESCRIPTION:Join us for Ascension Pink the Rink Public Skate and help spread cancer awareness! Whether you’re a seasoned skater or just starting out\, this is your chance to support a worthy cause and have a blast on the ice. \n  Triphahn Ice Arena\n  Sunday\, October 5 | 11:30a-1:00p\n  $7 Pre-registration | $10 registration day of | $4 skate rental \nRegister today at https://sholink.to/pink-the-rink \n 
URL:https://v2-heparks.prolificdigital.io/event/ascension-pink-the-rink-public-skate/
CATEGORIES:Public Skate
ATTACH;FMTTYPE=image/png:https://v2-heparks.prolificdigital.io/wp-content/uploads/2025/12/Pink-the-Rink_v2_social-e1757455020598.png
END:VEVENT
BEGIN:VEVENT
DTSTART;TZID=America/Chicago:20251011T080000
DTEND;TZID=America/Chicago:20251011T100000
DTSTAMP:20260419T174727
CREATED:20250325T050000Z
LAST-MODIFIED:20251212T214744Z
UID:10000010-1760169600-1760176800@v2-heparks.prolificdigital.io
SUMMARY:Seed Collection at Charlemagne
DESCRIPTION:Seed Collection at Charlemagne\n  \nSupport HEParks by Volunteering for this FREE event!  Come spend some time walking around the beautiful Charlemagne Park collecting native wildflower seeds and learning about conservation in this fun and educational activity. Tools and Gloves will be provided. All Ages Welcome.\n Charlemagne Park \n October 11\, 2025\n 8AM-10AM\n 
URL:https://v2-heparks.prolificdigital.io/event/seed-collection-at-charlemagne/
CATEGORIES:Volunteer Opportunity
ATTACH;FMTTYPE=image/jpeg:https://v2-heparks.prolificdigital.io/wp-content/uploads/2025/12/Wildflower-Seed-Gathering-092218-3.jpg
END:VEVENT
BEGIN:VEVENT
DTSTART;TZID=America/Chicago:20251012T130000
DTEND;TZID=America/Chicago:20251012T143000
DTSTAMP:20260419T174727
CREATED:20250529T050000Z
LAST-MODIFIED:20251212T214744Z
UID:10000022-1760274000-1760279400@v2-heparks.prolificdigital.io
SUMMARY:Pumpkin Splash
DESCRIPTION:Pumpkin Swim will be held at “The Club” activity pool.  Each participant will swim in our pumpkin patch to find a pumpkin of their own.  The hunt will start at 1pm sharp!  Participants can enjoy swimming until 2:30 pm. Children will have the opportunity to take pumpkin decorations and enjoy a sweet treat to go! Sign up with Activity Code 240719-A \n(1-13 year – The Club at Prarie Stone) \nSu                          1:00-2:30P              10/12                     $10 / $12 \n 
URL:https://v2-heparks.prolificdigital.io/event/pumpkin-splash/
CATEGORIES:Special Events
ATTACH;FMTTYPE=image/png:https://v2-heparks.prolificdigital.io/wp-content/uploads/2025/12/Pumpkin-Splash350x350.png
END:VEVENT
BEGIN:VEVENT
DTSTART;TZID=America/Chicago:20251013T070000
DTEND;TZID=America/Chicago:20251013T070000
DTSTAMP:20260419T174727
CREATED:20251006T050000Z
LAST-MODIFIED:20251212T214744Z
UID:10000037-1760338800-1760338800@v2-heparks.prolificdigital.io
SUMMARY:School Day Off 10/13 Main Event
DESCRIPTION:School will be off Monday October 13 and Heparks has you covered. Supervised fun at Main Event in Hoffman Estates will be this field trip location. \nSchool Days Off are Non-Refundable \n\nDistrict 54 STAR Days Off School\nRegister and Meet at Triphahn Center \n  \nDistrict 15 STAR-Days Off School\nRegister and Meet at Willow Recreation Center \n  \nFor more information contact Paige Calvey\, School Age Program Manager  (847) 285-5526. \n 
URL:https://v2-heparks.prolificdigital.io/event/school-day-off-10-13-main-event/
ATTACH;FMTTYPE=image/png:https://v2-heparks.prolificdigital.io/wp-content/uploads/2025/12/IMG_0789.png
END:VEVENT
BEGIN:VEVENT
DTSTART;TZID=America/Chicago:20251013T121500
DTEND;TZID=America/Chicago:20251013T134500
DTSTAMP:20260419T174727
CREATED:20250915T050000Z
LAST-MODIFIED:20251212T214744Z
UID:10000035-1760357700-1760363100@v2-heparks.prolificdigital.io
SUMMARY:Public Skate - School Day Off
DESCRIPTION:
URL:https://v2-heparks.prolificdigital.io/event/public-skate-school-day-off/
CATEGORIES:Public Skate
ATTACH;FMTTYPE=image/png:https://v2-heparks.prolificdigital.io/wp-content/uploads/2025/12/Public-Skate-Callout-2-e1757710635417.png
END:VEVENT
BEGIN:VEVENT
DTSTART;TZID=America/Chicago:20251015T150000
DTEND;TZID=America/Chicago:20251015T190000
DTSTAMP:20260419T174727
CREATED:20251008T050000Z
LAST-MODIFIED:20251212T214744Z
UID:10000038-1760540400-1760554800@v2-heparks.prolificdigital.io
SUMMARY:Renovations Open House at Willow
DESCRIPTION:Willow Renovations Open HouseWednesday\, October 15 | 3–7 PM3600 Lexington Dr.\, Hoffman Estates \nJoin us for a first look at the newly renovated Willow Fitness and Gymnastics spaces! \n  FREE access to Willow Fitness – try out our brand-new Cardio and Strength rooms! \n ‍♂️ Tour the new gymnastics studio – see the updated space for classes and programs. \nCome explore\, try something new\, and celebrate our upgraded facilities with the community!
URL:https://v2-heparks.prolificdigital.io/event/renovations-open-house-at-willow/
ATTACH;FMTTYPE=image/png:https://v2-heparks.prolificdigital.io/wp-content/uploads/2025/12/Willow-Center-Event-page.png
END:VEVENT
BEGIN:VEVENT
DTSTART;TZID=America/Chicago:20251019T113000
DTEND;TZID=America/Chicago:20251019T130000
DTSTAMP:20260419T174727
CREATED:20250915T050000Z
LAST-MODIFIED:20251212T214744Z
UID:10000036-1760873400-1760878800@v2-heparks.prolificdigital.io
SUMMARY:Public Skate
DESCRIPTION:PUBLIC SKATE ALERT! \n\n\n \n\n\n Bring your friends and family for an unforgettable time on the ice! Whether you’re a skating pro or just starting out\, our rink is the perfect place to make memories.\n\n\n\n  Rental Skates Ready! Just $4 for a pair. Slide into the fun effortlessly! Sizes range from Toddler Y8 through Adult 13 * Skates and Skate Aids are on a limited basis available first-come first-served\n\n\n \n\n\n Early Bird Special: Register online for just $7! Not only do you save money\, ($10 for walk-up prices)\, but you can also skip the hassle of the payment line when you arrive. It’s all about more time skating\, less time waiting!  Don’t miss the HEParks fun! Register at this shortened link: https://tab.so/SkateSundays\n\n\n \n\n\n Spend your day with us\, laughing and skating in at Triphahn Center’s Ice Arena\, no matter the weather outside!
URL:https://v2-heparks.prolificdigital.io/event/public-skate-4/
CATEGORIES:Public Skate
ATTACH;FMTTYPE=image/png:https://v2-heparks.prolificdigital.io/wp-content/uploads/2025/12/Public-Skate-Callout-2-e1757710635417.png
END:VEVENT
BEGIN:VEVENT
DTSTART;TZID=America/Chicago:20251025T100000
DTEND;TZID=America/Chicago:20251025T140000
DTSTAMP:20260419T174727
CREATED:20250529T050000Z
LAST-MODIFIED:20251212T214744Z
UID:10000023-1761386400-1761400800@v2-heparks.prolificdigital.io
SUMMARY:NEW DATE: OCT. 25 - Haunted Hoffman Family Fest
DESCRIPTION:https://www.heparks.org/wp-content/uploads/2025/10/2024-HAUNTED-HOFFMAN-VIDEO.mp4 \n  Haunted Hoffman Family Fest\nA FREE community event sponsored by Duly Health and Care \n\n\nNEW DATE: Saturday\, October 25\, 2025\nTime: 10:00 AM–2:00 PM\nLocation: Fabbrini Park\nAdmission: FREE General Admission\n\n\nNote: The Trick or Treat Path is a ticketed experience and requires registration. >> Register for Trick or Treat Path\n \n\n\n\n  What to Expect — FREE Family Fun\nJoin us for one of Hoffman Estates’ favorite fall traditions. Haunted Hoffman Family Fest brings the community together for a day of friendly frights and fall festivities for all ages. \n\n  Live Stage Entertainment (see schedule below)\n  Story-Walk Scavenger Hunt\n  Games\n  Bounce House\n  Scenic Hayride\n  PUMPKIN PATCH + Food Drive — bring a canned good or non-perishable item to support local families\n\nMeet real-life heroes. Members of the Hoffman Estates Fire and Police Departments will be onsite for hands-on\, family-friendly interactions. \n\n\n\n  Stage Schedule\n(Due to the inclement weather date change\, some entertainers could not rebook on this date.)\n\n10:15 AM — Zombie Zumba \n11:00 AM — Andy Head: The Wonderful Wacky Juggler\n12:00 PM — Scribble Monster\n1:00 PM — Twisticity Bubble Show\n\n\n\n  Food Trucks\n\nFernando’s Street Kitchen\nSweet Ride Chi\n\n\n\n  Kid Zone\n\nInflatables\nPumpkin decorating\nGames\nTattoos\nSport tutorials including World Champions Twirling Twisters (timing to come)\n\n\n\n  Other Attractions\n\nHayride Scavenger Hunt\nPumpkin Patch\nPolice & Fire meet-and-greet\n15+ Vendors\nTrick or Treat Path (paid) — favorite costumes like Paw Patrol\, Elsa\, Sesame Street\, Mickey and Minnie Mouse\, Superheroes\, Barbie\, and more\n\n\n\n ️ Parking & Shuttle\nOff-site parking at Eisenhower Jr. High. Free shuttle available to and from Fabbrini Park. \n\n\n\n  Trick or Treat Path — Ticketed Experience\nTrick or Treat with HEParks at Fabbrini Park and meet favorite characters like Elsa\, Anna\, Bluey\, Chase\, Big Bird\, and more at 20+ character-themed stops along a magical walking path. \n\nPre-registration: $9 per child\nDay-of (as space allows): $12 per child\nCostumes encouraged\n\nPlease register for only one time slot to accommodate as many families as possible. \n\nTrick or Treat Time Slots\n\n  10:00–10:45 AM\n[Register: 245918-A]\nRegister\n  10:45–11:30 AM\n[Register: 245918-B]\nRegister\n  12:30–1:15 PM\n[Register: 245918-C]\nRegister\n  9:45–10:00 AM (Sensory-Sensitive Time)\n[Register: 245918-D]\nRegister\n\nIf all time slots are sold out\, walk-in registration will be accepted at the end of each section as time allows. Cash or credit accepted onsite. \n\nRegister for Trick or Treat Trail\n \n\n\n\n\n  Know Before You Go\n\nGeneral admission to Haunted Hoffman Family Fest is FREE.\nThe Trick or Treat Path requires paid registration for participating children.\nBring a non-perishable food item for the Pumpkin Patch Food Drive.\nCostumes\, strollers\, and family-friendly fun are welcome.\nPlease allow time for parking and check-in for registered time slots.\nFabbrini Parking lot is for Handicap Parking only.\n\n\nPresenting Sponsor: Duly Health and Care
URL:https://v2-heparks.prolificdigital.io/event/new-date-oct-25-haunted-hoffman-family-fest/
CATEGORIES:Special Events
ATTACH;FMTTYPE=image/jpeg:https://v2-heparks.prolificdigital.io/wp-content/uploads/2025/12/hh-duly-.jpg
END:VEVENT
BEGIN:VEVENT
DTSTART;TZID=America/Chicago:20251025T160000
DTEND;TZID=America/Chicago:20251025T190000
DTSTAMP:20260419T174727
CREATED:20250409T050000Z
LAST-MODIFIED:20251212T214743Z
UID:10000014-1761408000-1761418800@v2-heparks.prolificdigital.io
SUMMARY:Yappy Hour: Costume Party
DESCRIPTION:FREE to attend and open to the public! \nJoin us for a fun-filled family event with your furry friends!\nCostume contest & more! \nFood & beverages will be available for purchase.
URL:https://v2-heparks.prolificdigital.io/event/yappy-hour-costume-party/
ATTACH;FMTTYPE=image/png:https://v2-heparks.prolificdigital.io/wp-content/uploads/2025/12/BPC-HEPD-EMAIL-Yappy-Hour-10-25-25-Costume-Party-V3.png
END:VEVENT
BEGIN:VEVENT
DTSTART;TZID=America/Chicago:20251026T113000
DTEND;TZID=America/Chicago:20251026T130000
DTSTAMP:20260419T174727
CREATED:20250728T050000Z
LAST-MODIFIED:20251212T214743Z
UID:10000026-1761478200-1761483600@v2-heparks.prolificdigital.io
SUMMARY:Spooky Public Skate
DESCRIPTION:Have fun with friends and Family on the ice by skating in your Halloween costume. Make memories at our Spooky Public Skate on Sunday\, October 26\, 2025! Fun for the whole family\, or friends who feel like family and fun and active way to spend the day together. \n  Rental Skates Are Ready!\nJust $4 per pair – perfect for all ages to join the fun. Sizes range from Toddler Y8 through Adult 13. Skates and Skate Aids are available on a limited\, first-come first-served basis. \n⏰ Register Early & Save!\nLock in your spot online for just $7. Walk-up admission is $10\, so register ahead to skip the line and get straight to the celebration!
URL:https://v2-heparks.prolificdigital.io/event/spooky-public-skate/
ATTACH;FMTTYPE=image/png:https://v2-heparks.prolificdigital.io/wp-content/uploads/2025/12/spooky-skate.png
END:VEVENT
BEGIN:VEVENT
DTSTART;TZID=America/Chicago:20251029T171500
DTEND;TZID=America/Chicago:20251029T183000
DTSTAMP:20260419T174727
CREATED:20251016T050000Z
LAST-MODIFIED:20251212T214743Z
UID:10000040-1761758100-1761762600@v2-heparks.prolificdigital.io
SUMMARY:Howl-O-Ween Dog Costume Parade
DESCRIPTION:Celebrate Howl-O-Ween with Your Pup\n FREE EVENT! \n  Date: Wednesday\, October 29⏰ Time: 5:15–6:30 PM  Where: Bo’s Run Dog Park – Willow Center\nBring your dog (and yourself!) in costume:\n\n\nOptional dog walk around the neighborhood 5:30–6:00 PM\n\n\nBest dressed pup prize awarded\n\n\nTreats for every four-legged friend
URL:https://v2-heparks.prolificdigital.io/event/howl-o-ween-dog-costume-parade/
CATEGORIES:Dog Events,Special Events
ATTACH;FMTTYPE=image/png:https://v2-heparks.prolificdigital.io/wp-content/uploads/2025/12/dog-in-costume.png
END:VEVENT
END:VCALENDAR