BEGIN:VCALENDAR
VERSION:2.0
PRODID:-//Heparks v2 Staging - ECPv6.15.17.1//NONSGML v1.0//EN
CALSCALE:GREGORIAN
METHOD:PUBLISH
X-WR-CALNAME:Heparks v2 Staging
X-ORIGINAL-URL:https://v2-heparks.prolificdigital.io
X-WR-CALDESC:Events for Heparks v2 Staging
REFRESH-INTERVAL;VALUE=DURATION:PT1H
X-Robots-Tag:noindex
X-PUBLISHED-TTL:PT1H
BEGIN:VTIMEZONE
TZID:America/Chicago
BEGIN:DAYLIGHT
TZOFFSETFROM:-0600
TZOFFSETTO:-0500
TZNAME:CDT
DTSTART:20240310T080000
END:DAYLIGHT
BEGIN:STANDARD
TZOFFSETFROM:-0500
TZOFFSETTO:-0600
TZNAME:CST
DTSTART:20241103T070000
END:STANDARD
BEGIN:DAYLIGHT
TZOFFSETFROM:-0600
TZOFFSETTO:-0500
TZNAME:CDT
DTSTART:20250309T080000
END:DAYLIGHT
BEGIN:STANDARD
TZOFFSETFROM:-0500
TZOFFSETTO:-0600
TZNAME:CST
DTSTART:20251102T070000
END:STANDARD
BEGIN:DAYLIGHT
TZOFFSETFROM:-0600
TZOFFSETTO:-0500
TZNAME:CDT
DTSTART:20260308T080000
END:DAYLIGHT
BEGIN:STANDARD
TZOFFSETFROM:-0500
TZOFFSETTO:-0600
TZNAME:CST
DTSTART:20261101T070000
END:STANDARD
END:VTIMEZONE
BEGIN:VEVENT
DTSTART;TZID=America/Chicago:20251206T100000
DTEND;TZID=America/Chicago:20251206T133000
DTSTAMP:20260419T175124
CREATED:20250904T050000Z
LAST-MODIFIED:20251212T214743Z
UID:10000030-1765015200-1765027800@v2-heparks.prolificdigital.io
SUMMARY:❄️ Winterfest 2025 sponsored by Duly Health❄️
DESCRIPTION:Free Winter Fun for the Whole Family!\nDate: Saturday\, December 6\, 2025Time: 10:00 AM – 1:30 PMLocation: Bridges of Poplar Creek Country Club1400 Poplar Creek Dr\, Hoffman Estates\, IL 60169 \nBundle up and join us for a magical day of FREE family fun at the Hoffman Estates Park District’s annual Winterfest! Enjoy festive music\, cozy treats\, and exciting activities for all ages — all set against a winter wonderland backdrop. Special thanks to the event sponsor: Duly Health! \n\n  Event Highlights\n  DJ playing your favorite holiday tunes \n  Horse-Drawn Carriage Rides \n☕ Hot Cocoa Station \n  Outdoor S’mores by the Fire Pit \n  Winter Games \n⛸️ Iceless Skating Rink \n  Cookie Decorating \n  Holiday Selfie Station \n  Free Vendor Giveaways \n  Tree Toptracer Range Play \n  New This Year!\nThe Tree Trail by John’s EvergreensStroll through a festive tree trail and pick out your perfect live Christmas tree\, wreath\, or one-of-a-kind handmade cedar reindeer from John’s Evergreens\, available for purchase during Winterfest. \nWant your tree early? Visit John’s Evergreens at:  The Huntington Plaza Shopping Center1550 Algonquin Road\, Hoffman Estates ️ Open starting November 22\, 2025 \n  Come for the cocoa\, stay for the cheer!Don’t miss this festive\, family-friendly event — we can’t wait to celebrate the season with you!
URL:https://v2-heparks.prolificdigital.io/event/%e2%9d%84%ef%b8%8f-winterfest-2025-sponsored-by-duly-health%e2%9d%84%ef%b8%8f/
CATEGORIES:Special Events
ATTACH;FMTTYPE=image/png:https://v2-heparks.prolificdigital.io/wp-content/uploads/2025/12/Duly-Health-Winterfest-Sponsor-white.png
END:VEVENT
BEGIN:VEVENT
DTSTART;TZID=America/Chicago:20251231T110000
DTEND;TZID=America/Chicago:20251231T130000
DTSTAMP:20260419T175124
CREATED:20251013T050000Z
LAST-MODIFIED:20260211T205928Z
UID:10000039-1767178800-1767186000@v2-heparks.prolificdigital.io
SUMMARY:New Year's Bash
DESCRIPTION:Wednesday\, December 31 | 11:00 AM–1:00 PMTriphahn Center & Ice ArenaFee: $18 Resident / $20 Non-ResidentActivity Code: 245920-A \nRing in the new year HEParks style!  Celebrate the last day of the year with music\, games\, and glowing neon fun. Kids can dance under black lights\, play high-energy games\, and join our special countdown to noon—a perfect way to celebrate early! \nWe’ll keep the party going with pizza\, laughter\, and bright decorations that light up the room. It’s the ultimate way for kids ages 4–10 to kick off the new year with friends and fun! \nREGISTER with Activity code 245920
URL:https://v2-heparks.prolificdigital.io/event/new-years-bash/
CATEGORIES:Special Events
ATTACH;FMTTYPE=image/png:https://v2-heparks.prolificdigital.io/wp-content/uploads/2025/12/Copy-of-New-Years-Bash.png
END:VEVENT
END:VCALENDAR