BEGIN:VCALENDAR
VERSION:2.0
PRODID:-//Heparks v2 Staging - ECPv6.15.17.1//NONSGML v1.0//EN
CALSCALE:GREGORIAN
METHOD:PUBLISH
X-ORIGINAL-URL:https://v2-heparks.prolificdigital.io
X-WR-CALDESC:Events for Heparks v2 Staging
REFRESH-INTERVAL;VALUE=DURATION:PT1H
X-Robots-Tag:noindex
X-PUBLISHED-TTL:PT1H
BEGIN:VTIMEZONE
TZID:America/Chicago
BEGIN:DAYLIGHT
TZOFFSETFROM:-0600
TZOFFSETTO:-0500
TZNAME:CDT
DTSTART:20240310T080000
END:DAYLIGHT
BEGIN:STANDARD
TZOFFSETFROM:-0500
TZOFFSETTO:-0600
TZNAME:CST
DTSTART:20241103T070000
END:STANDARD
BEGIN:DAYLIGHT
TZOFFSETFROM:-0600
TZOFFSETTO:-0500
TZNAME:CDT
DTSTART:20250309T080000
END:DAYLIGHT
BEGIN:STANDARD
TZOFFSETFROM:-0500
TZOFFSETTO:-0600
TZNAME:CST
DTSTART:20251102T070000
END:STANDARD
BEGIN:DAYLIGHT
TZOFFSETFROM:-0600
TZOFFSETTO:-0500
TZNAME:CDT
DTSTART:20260308T080000
END:DAYLIGHT
BEGIN:STANDARD
TZOFFSETFROM:-0500
TZOFFSETTO:-0600
TZNAME:CST
DTSTART:20261101T070000
END:STANDARD
END:VTIMEZONE
BEGIN:VEVENT
DTSTART;VALUE=DATE:20250905
DTEND;VALUE=DATE:20250906
DTSTAMP:20260419T235700
CREATED:20250325T050000Z
LAST-MODIFIED:20251212T214745Z
UID:10000011-1757030400-1757116799@v2-heparks.prolificdigital.io
SUMMARY:Friends of HEParks Days - Golf the Green
DESCRIPTION:️‍♀️ Swing for a Cause – Golf the Green ️‍♂️\n  Date: Sept 5\, 2025  Location: Bridges of Poplar Creek\nCome enjoy a day on the green and make a difference! 100% of daily play tee times and green fees will benefit the Friends of HEParks Foundation\, supporting at-risk families in Hoffman Estates by providing access to recreational programs.\n\n\n\nTee times can be booked up to 7 days in advance here\n\n\nLearn more about the foundation or donate here\n\n\n  \nThe Friends of HEParks Foundation is a dedicated group of community volunteers who raise money so that more residents can participate in and enjoy recreational opportunities\, regardless of their social\, physical or economic circumstances and limitations. It is the mission of the Hoffman Estates Park District and the Foundation to promote the health and well being of residents through first class facilities and programs. \n\n \n\n \n\n  Bridges Green Fees (2025 Rates)\nGreen fees vary based on the day and time: \n\nWeekday (Monday–Friday): $40–$49 (includes cart)\nWeekend (Saturday–Sunday): $60–$74 (includes cart)\nWalking Rates: $34 on weekdays and weekends after 1:00 PM\nPeak Weekend Mornings: Up to $82\, as noted by some players\n\n\n\n\nThe final three holes are considered by many locals to be the toughest finishing trio in all of Illinois. It begins with an uphill par 4\, followed by the longest par-3 and par-4 holes respectively. The Bridges of Poplar Creek C.C. offers a round that will challenge even the most avid golfers.
URL:https://v2-heparks.prolificdigital.io/event/friends-of-heparks-days-golf-the-green/
CATEGORIES:Foundation Events,Special Events
ATTACH;FMTTYPE=image/png:https://v2-heparks.prolificdigital.io/wp-content/uploads/2025/12/Friends-of-HEParks-Days_Golf-the-Green.png
END:VEVENT
BEGIN:VEVENT
DTSTART;TZID=America/Chicago:20250906T120000
DTEND;TZID=America/Chicago:20250906T170000
DTSTAMP:20260419T235700
CREATED:20250813T050000Z
LAST-MODIFIED:20251212T214745Z
UID:10000027-1757160000-1757178000@v2-heparks.prolificdigital.io
SUMMARY:Kinderplatz: HEParks Kids’ Activity Zone at Platzkonzert
DESCRIPTION:Kinderplatz: HEParks Kids’ Activity Zone at Platzkonzert  \nFrom crafts to games\, join HEParks at Kinderplatz on Sept. 6 & 7\, 12–5 PM for hands-on fun the whole family will love!\nStep into KINDERPLATZ\, the ultimate children’s activity area at Platzkonzert! HEParks will be on-site with engaging crafts\, interactive games\, and activities designed just for kids. It’s the perfect place for little festival-goers to explore\, create\, and have fun while parents enjoy the music\, food\, and festivities around them  .\nThis is a FREE Event!\nWhen: Saturday\, Sept. 6 & Sunday\, Sept. 7 | 12–5 PMWhere: Kinderplatz Area\, Platzkonzert\, Hoffman Estates Village Green
URL:https://v2-heparks.prolificdigital.io/event/kinderplatz-heparks-kids-activity-zone-at-platzkonzert/
CATEGORIES:Special Events
ATTACH;FMTTYPE=image/png:https://v2-heparks.prolificdigital.io/wp-content/uploads/2025/12/Kinderplatz_webevent.png
END:VEVENT
BEGIN:VEVENT
DTSTART;TZID=America/Chicago:20250907T120000
DTEND;TZID=America/Chicago:20250907T170000
DTSTAMP:20260419T235700
CREATED:20250813T050000Z
LAST-MODIFIED:20251212T214745Z
UID:10000028-1757246400-1757264400@v2-heparks.prolificdigital.io
SUMMARY:Kinderplatz: HEParks Kids’ Activity Zone at Platzkonzert
DESCRIPTION:Kinderplatz: HEParks Kids’ Activity Zone at Platzkonzert  \nFrom crafts to games\, join HEParks at Kinderplatz on Sept. 6 & 7\, 12–5 PM for hands-on fun the whole family will love!\nStep into KINDERPLATZ\, the ultimate children’s activity area at Platzkonzert! HEParks will be on-site with engaging crafts\, interactive games\, and activities designed just for kids. It’s the perfect place for little festival-goers to explore\, create\, and have fun while parents enjoy the music\, food\, and festivities around them  .\nThis is a FREE event!\nWhen: Saturday\, Sept. 6 & Sunday\, Sept. 7 | 12–5 PMWhere: Kinderplatz Area\, Platzkonzert\, Hoffman Estates Village Green
URL:https://v2-heparks.prolificdigital.io/event/kinderplatz-heparks-kids-activity-zone-at-platzkonzert-2/
CATEGORIES:Special Events
ATTACH;FMTTYPE=image/png:https://v2-heparks.prolificdigital.io/wp-content/uploads/2025/12/Kinderplatz_webevent.png
END:VEVENT
BEGIN:VEVENT
DTSTART;TZID=America/Chicago:20250913T090000
DTEND;TZID=America/Chicago:20250913T140000
DTSTAMP:20260419T235700
CREATED:20250529T050000Z
LAST-MODIFIED:20251212T214745Z
UID:10000020-1757754000-1757772000@v2-heparks.prolificdigital.io
SUMMARY:Community Garage Sale
DESCRIPTION:Treasure Hunting Made Easy – Mark Your Calendar Today!\nThe HEParks Community Garage Sale is always FREE for the public to shop and a great place to find treasures.   Whether you’re searching for toys\, tools\, books\, or a retro lava lamp that reminds you of high school — this is the place to be! \n\n  Saturday\, September 13\n  9:00 AM – 2:00 PM\n  Seascape Parking Lot (1300 Moon Lake Blvd)\n\nIf you would like to be a vendor\, we provide the perfect location and also take care of advertising. Each vendor will receive one parking lot spot to sell their merchandise and one spot for their vehicle. Vendors will be required to provide their own tables\, chairs and cash box. Sign up with activity code 248031-A \n  \n 
URL:https://v2-heparks.prolificdigital.io/event/community-garage-sale/
CATEGORIES:Special Events
ATTACH;FMTTYPE=image/jpeg:https://v2-heparks.prolificdigital.io/wp-content/uploads/2025/12/Garage-Sale-Fall-2018-9a.jpg
END:VEVENT
BEGIN:VEVENT
DTSTART;TZID=America/Chicago:20250917T173000
DTEND;TZID=America/Chicago:20250917T180000
DTSTAMP:20260419T235700
CREATED:20250529T050000Z
LAST-MODIFIED:20251212T214745Z
UID:10000021-1758130200-1758132000@v2-heparks.prolificdigital.io
SUMMARY:GO Hoffman Estates Walking Club
DESCRIPTION:Go Hoffman Walking Club is back!\nJoin the GO Hoffman Estates Walking Club on a Fall Stroller Walk starting at Fabbrini Park (meeting by the parking lot) at 5:30pm on Wednesday\, September 17th. The walk will be approximately 30 minutes. Pet friendly. Parking will be available at Fabbrini Park or MacArthur school.\nFall theme: Stroller Walking ✨Bring your little ones\, meet other families\, and enjoy a walk together through our community.\n  Fabbrini Park Pavilion  5:30 PM  FREE for all!\nIt’s a simple way to get moving\, connect with neighbors\, and make memories with your family.
URL:https://v2-heparks.prolificdigital.io/event/go-hoffman-estates-walking-club/
CATEGORIES:Special Events
ATTACH;FMTTYPE=image/png:https://v2-heparks.prolificdigital.io/wp-content/uploads/2025/12/GO-HOFFMAN-01.png
END:VEVENT
END:VCALENDAR