BEGIN:VCALENDAR
VERSION:2.0
PRODID:-//Heparks v2 Staging - ECPv6.15.17.1//NONSGML v1.0//EN
CALSCALE:GREGORIAN
METHOD:PUBLISH
X-WR-CALNAME:Heparks v2 Staging
X-ORIGINAL-URL:https://v2-heparks.prolificdigital.io
X-WR-CALDESC:Events for Heparks v2 Staging
REFRESH-INTERVAL;VALUE=DURATION:PT1H
X-Robots-Tag:noindex
X-PUBLISHED-TTL:PT1H
BEGIN:VTIMEZONE
TZID:America/Chicago
BEGIN:DAYLIGHT
TZOFFSETFROM:-0600
TZOFFSETTO:-0500
TZNAME:CDT
DTSTART:20240310T080000
END:DAYLIGHT
BEGIN:STANDARD
TZOFFSETFROM:-0500
TZOFFSETTO:-0600
TZNAME:CST
DTSTART:20241103T070000
END:STANDARD
BEGIN:DAYLIGHT
TZOFFSETFROM:-0600
TZOFFSETTO:-0500
TZNAME:CDT
DTSTART:20250309T080000
END:DAYLIGHT
BEGIN:STANDARD
TZOFFSETFROM:-0500
TZOFFSETTO:-0600
TZNAME:CST
DTSTART:20251102T070000
END:STANDARD
BEGIN:DAYLIGHT
TZOFFSETFROM:-0600
TZOFFSETTO:-0500
TZNAME:CDT
DTSTART:20260308T080000
END:DAYLIGHT
BEGIN:STANDARD
TZOFFSETFROM:-0500
TZOFFSETTO:-0600
TZNAME:CST
DTSTART:20261101T070000
END:STANDARD
END:VTIMEZONE
BEGIN:VEVENT
DTSTART;TZID=America/Chicago:20251214T103000
DTEND;TZID=America/Chicago:20251214T140000
DTSTAMP:20260419T222453
CREATED:20250603T050000Z
LAST-MODIFIED:20251212T214743Z
UID:10000025-1765708200-1765720800@v2-heparks.prolificdigital.io
SUMMARY:Friends of HEParks Days - Skate with Santa Public Skate
DESCRIPTION:⛸️ Celebrate the season of giving at Skate with Santa Public Skate\nGlide into holiday fun while helping at-risk families in our community—100% of proceeds benefit the Friends of HEParks Foundation Scholarship Fund\, providing recreation scholarships and funding special recreation projects for those in need. \nLearn more about the foundation or donate here.\nTwo festive open-skate sessions with Santa will be offered at 10:30 a.m. and 12:30 p.m.—each a joyful chance to make holiday memories on the ice. Guests are encouraged to pre-register to save time at check-in. You can REGISTER HERE! \n  Admission: $7 in-advance or $10 at the door on December 14\n⛸ Rental Skates: Available first-come\, first-served (toddler Y8–adult 13)\n  Skate Aids: Limited availability\, first-come\, first-served\n  Safety Notes: Helmets recommended; hockey equipment not permitted during public skate. All participants must sign a waiver. \nThis event is staffed with attendants to assist guests and ensure a safe\, family-friendly experience. Whether you’re twirling to holiday tunes or taking your first spin on the ice\, it’s the perfect way to enjoy the spirit of the season while giving back to others. \nJoin us as we Skate for a Cause and help local families experience the joy of recreation this holiday season!
URL:https://v2-heparks.prolificdigital.io/event/friends-of-heparks-days-skate-with-santa-public-skate/
CATEGORIES:Public Skate
ATTACH;FMTTYPE=image/png:https://v2-heparks.prolificdigital.io/wp-content/uploads/2025/12/Screenshot-2025-06-03-at-11.59.48-AM.png
END:VEVENT
END:VCALENDAR