BEGIN:VCALENDAR
VERSION:2.0
PRODID:-//Heparks v2 Staging - ECPv6.15.17.1//NONSGML v1.0//EN
CALSCALE:GREGORIAN
METHOD:PUBLISH
X-WR-CALNAME:Heparks v2 Staging
X-ORIGINAL-URL:https://v2-heparks.prolificdigital.io
X-WR-CALDESC:Events for Heparks v2 Staging
REFRESH-INTERVAL;VALUE=DURATION:PT1H
X-Robots-Tag:noindex
X-PUBLISHED-TTL:PT1H
BEGIN:VTIMEZONE
TZID:America/Chicago
BEGIN:DAYLIGHT
TZOFFSETFROM:-0600
TZOFFSETTO:-0500
TZNAME:CDT
DTSTART:20250309T080000
END:DAYLIGHT
BEGIN:STANDARD
TZOFFSETFROM:-0500
TZOFFSETTO:-0600
TZNAME:CST
DTSTART:20251102T070000
END:STANDARD
BEGIN:DAYLIGHT
TZOFFSETFROM:-0600
TZOFFSETTO:-0500
TZNAME:CDT
DTSTART:20260308T080000
END:DAYLIGHT
BEGIN:STANDARD
TZOFFSETFROM:-0500
TZOFFSETTO:-0600
TZNAME:CST
DTSTART:20261101T070000
END:STANDARD
BEGIN:DAYLIGHT
TZOFFSETFROM:-0600
TZOFFSETTO:-0500
TZNAME:CDT
DTSTART:20270314T080000
END:DAYLIGHT
BEGIN:STANDARD
TZOFFSETFROM:-0500
TZOFFSETTO:-0600
TZNAME:CST
DTSTART:20271107T070000
END:STANDARD
END:VTIMEZONE
BEGIN:VEVENT
DTSTART;TZID=America/Chicago:20260509T090000
DTEND;TZID=America/Chicago:20260509T140000
DTSTAMP:20260419T114605
CREATED:20260312T180246Z
LAST-MODIFIED:20260316T141531Z
UID:10000057-1778317200-1778335200@v2-heparks.prolificdigital.io
SUMMARY:Community Garage Sale
DESCRIPTION:Ready for a treasure hunt?HEParks Community Garage Sale is coming to the Seascape Parking Lot.  \nMay 9 | 9 AM–2 PM \nShop for unique finds\, vintage goodies\, and everyday deals from community vendors.Shopping is FREE! \nWant to sell? Sign up for a vendor spot and join the fun. Register Here.
URL:https://v2-heparks.prolificdigital.io/event/41584/
LOCATION:Seascape Family Aquatic Center
CATEGORIES:Special Events
ATTACH;FMTTYPE=image/jpeg:https://v2-heparks.prolificdigital.io/wp-content/uploads/2026/03/good-IMG_0959-scaled.jpeg
END:VEVENT
END:VCALENDAR