BEGIN:VCALENDAR
VERSION:2.0
PRODID:-//Heparks v2 Staging - ECPv6.15.17.1//NONSGML v1.0//EN
CALSCALE:GREGORIAN
METHOD:PUBLISH
X-ORIGINAL-URL:https://v2-heparks.prolificdigital.io
X-WR-CALDESC:Events for Heparks v2 Staging
REFRESH-INTERVAL;VALUE=DURATION:PT1H
X-Robots-Tag:noindex
X-PUBLISHED-TTL:PT1H
BEGIN:VTIMEZONE
TZID:America/Chicago
BEGIN:DAYLIGHT
TZOFFSETFROM:-0600
TZOFFSETTO:-0500
TZNAME:CDT
DTSTART:20250309T080000
END:DAYLIGHT
BEGIN:STANDARD
TZOFFSETFROM:-0500
TZOFFSETTO:-0600
TZNAME:CST
DTSTART:20251102T070000
END:STANDARD
BEGIN:DAYLIGHT
TZOFFSETFROM:-0600
TZOFFSETTO:-0500
TZNAME:CDT
DTSTART:20260308T080000
END:DAYLIGHT
BEGIN:STANDARD
TZOFFSETFROM:-0500
TZOFFSETTO:-0600
TZNAME:CST
DTSTART:20261101T070000
END:STANDARD
BEGIN:DAYLIGHT
TZOFFSETFROM:-0600
TZOFFSETTO:-0500
TZNAME:CDT
DTSTART:20270314T080000
END:DAYLIGHT
BEGIN:STANDARD
TZOFFSETFROM:-0500
TZOFFSETTO:-0600
TZNAME:CST
DTSTART:20271107T070000
END:STANDARD
END:VTIMEZONE
BEGIN:VEVENT
DTSTART;TZID=America/Chicago:20260404T084500
DTEND;TZID=America/Chicago:20260404T084500
DTSTAMP:20260419T101044
CREATED:20260212T180450Z
LAST-MODIFIED:20260316T140326Z
UID:10000050-1775292300-1775292300@v2-heparks.prolificdigital.io
SUMMARY:Egg Hunt - Pine Park
DESCRIPTION:Bring your baskets and your biggest smiles!\nKids of all ages are invited to search for colorful\, hidden eggs filled with treats\, toys\, and surprises. \nParticipants will be separated into three age groups during the egg hunt to keep things fun and fair. Be sure to keep an eye out for the special “golden eggs” with extra prizes inside! \nAfter the hunt\, don’t forget to take photos with the Easter Bunny \nAges: 0–10\nCost: $5 (residents) / $7 (non-residents)\nPre-registration required. Spots are limited! \nEvent Times & Locations \nSign Up Today! https://sholink.to/29c7f31c \nChoose your Egg Hunt Location: \n Session A\nPine Park\n8:45 AM\nProgram Code: 215110-A \nSession B\nFabbrini Park\n10:45 AM\nProgram Code: 215110-B \nSession C\nCannon Crossings\n12:45 PM\nProgram Code: 215110-C \nRain or Shine Event– What to Bring:\nBasket or bag for eggs
URL:https://v2-heparks.prolificdigital.io/event/egg-hunt-pine-park/
LOCATION:Pine Park
CATEGORIES:Special Events
ATTACH;FMTTYPE=image/jpeg:https://v2-heparks.prolificdigital.io/wp-content/uploads/2026/02/2-girls-with-baskets-scaled.jpeg
END:VEVENT
BEGIN:VEVENT
DTSTART;TZID=America/Chicago:20260404T104500
DTEND;TZID=America/Chicago:20260404T104500
DTSTAMP:20260419T101044
CREATED:20260212T180806Z
LAST-MODIFIED:20260316T140533Z
UID:10000051-1775299500-1775299500@v2-heparks.prolificdigital.io
SUMMARY:Egg Hunt - Fabbrini Park
DESCRIPTION:Bring your baskets and your biggest smiles!\nKids of all ages are invited to search for colorful\, hidden eggs filled with treats\, toys\, and surprises. \nParticipants will be separated into three age groups during the egg hunt to keep things fun and fair. Be sure to keep an eye out for the special “golden eggs” with extra prizes inside! \nAfter the hunt\, don’t forget to take photos with the Easter Bunny \nAges: 0–10\nCost: $5 (residents) / $7 (non-residents)\nPre-registration required. Spots are limited! \nEvent Times & Locations \nSign Up Today! https://sholink.to/29c7f31c \nChoose your Egg Hunt Location: \nSession A\nPine Park\n8:45 AM\nProgram Code: 215110-A \nSession B\nFabbrini Park\n10:45 AM\nProgram Code: 215110-B \nSession C\nCannon Crossings\n12:45 PM\nProgram Code: 215110-C \nRain or Shine Event– What to Bring:\nBasket or bag for eggs
URL:https://v2-heparks.prolificdigital.io/event/egg-hunt-fabbrini-park/
LOCATION:Fabbrini Park
CATEGORIES:Special Events
ATTACH;FMTTYPE=image/jpeg:https://v2-heparks.prolificdigital.io/wp-content/uploads/2026/02/2-girls-with-baskets-scaled.jpeg
END:VEVENT
BEGIN:VEVENT
DTSTART;TZID=America/Chicago:20260404T124500
DTEND;TZID=America/Chicago:20260404T124500
DTSTAMP:20260419T101044
CREATED:20260212T181103Z
LAST-MODIFIED:20260316T140717Z
UID:10000052-1775306700-1775306700@v2-heparks.prolificdigital.io
SUMMARY:Egg Hunt - Cannon Crossings
DESCRIPTION:Bring your baskets and your biggest smiles!\nKids of all ages are invited to search for colorful\, hidden eggs filled with treats\, toys\, and surprises. \nParticipants will be separated into three age groups during the egg hunt to keep things fun and fair. Be sure to keep an eye out for the special “golden eggs” with extra prizes inside! \nAfter the hunt\, don’t forget to take photos with the Easter Bunny \nAges: 0–10\nCost: $5 (residents) / $7 (non-residents)\nPre-registration required. Spots are limited! \nEvent Times & Locations \nSign Up Today! https://sholink.to/29c7f31c \nChoose your Egg Hunt Location: \nSession A\nPine Park\n8:45 AM\nProgram Code: 215110-A \nSession B\nFabbrini Park\n10:45 AM\nProgram Code: 215110-B \nSession C\nCannon Crossings\n12:45 PM\nProgram Code: 215110-C \nRain or Shine Event– What to Bring:\nBasket or bag for eggs\nComfortable shoes\nCamera for bunny photos
URL:https://v2-heparks.prolificdigital.io/event/egg-hunt-cannon-crossings/
LOCATION:Cannon Crossings Park
CATEGORIES:Special Events
ATTACH;FMTTYPE=image/jpeg:https://v2-heparks.prolificdigital.io/wp-content/uploads/2026/02/2-girls-with-baskets-scaled.jpeg
END:VEVENT
END:VCALENDAR