BEGIN:VCALENDAR
VERSION:2.0
PRODID:-//Heparks v2 Staging - ECPv6.15.17.1//NONSGML v1.0//EN
CALSCALE:GREGORIAN
METHOD:PUBLISH
X-ORIGINAL-URL:https://v2-heparks.prolificdigital.io
X-WR-CALDESC:Events for Heparks v2 Staging
REFRESH-INTERVAL;VALUE=DURATION:PT1H
X-Robots-Tag:noindex
X-PUBLISHED-TTL:PT1H
BEGIN:VTIMEZONE
TZID:America/Chicago
BEGIN:DAYLIGHT
TZOFFSETFROM:-0600
TZOFFSETTO:-0500
TZNAME:CDT
DTSTART:20250309T080000
END:DAYLIGHT
BEGIN:STANDARD
TZOFFSETFROM:-0500
TZOFFSETTO:-0600
TZNAME:CST
DTSTART:20251102T070000
END:STANDARD
BEGIN:DAYLIGHT
TZOFFSETFROM:-0600
TZOFFSETTO:-0500
TZNAME:CDT
DTSTART:20260308T080000
END:DAYLIGHT
BEGIN:STANDARD
TZOFFSETFROM:-0500
TZOFFSETTO:-0600
TZNAME:CST
DTSTART:20261101T070000
END:STANDARD
BEGIN:DAYLIGHT
TZOFFSETFROM:-0600
TZOFFSETTO:-0500
TZNAME:CDT
DTSTART:20270314T080000
END:DAYLIGHT
BEGIN:STANDARD
TZOFFSETFROM:-0500
TZOFFSETTO:-0600
TZNAME:CST
DTSTART:20271107T070000
END:STANDARD
END:VTIMEZONE
BEGIN:VEVENT
DTSTART;TZID=America/Chicago:20260220T183000
DTEND;TZID=America/Chicago:20260220T203000
DTSTAMP:20260419T131947
CREATED:20251029T050000Z
LAST-MODIFIED:20260128T194002Z
UID:10000042-1771612200-1771619400@v2-heparks.prolificdigital.io
SUMMARY:Puzzle Mania
DESCRIPTION:PUZZLE MANIA  \nGather your team and put your puzzle-solving skills to the test! Teams of 1–2 or 3–4 people will race to complete a puzzle in the fastest time—300-piece puzzles for smaller teams and 500-piece puzzles for larger teams. Bring snacks to share and enjoy fun\, friendly competition with friends and family. All ages are welcome\, and great prizes will be awarded! \n\n\nLet’s Get Ready to Puzzle!️ Friday\, Feb 20 | 6:30–8:30 PMTriphahn Recreation Center \n‍♀️ Teams & Fees: 1–2 players → $22 / $25 → Code: 215985-A 3–4 players → $27 / $30 → Code: 215985-B \n\n\nNotes: \n\n\nFee is per team (only one person registers) \n\n\nAll ages welcome!
URL:https://v2-heparks.prolificdigital.io/event/puzzle-mania/
CATEGORIES:Special Events
ATTACH;FMTTYPE=image/png:https://v2-heparks.prolificdigital.io/wp-content/uploads/2025/12/puzzle-2.png
END:VEVENT
END:VCALENDAR