BEGIN:VCALENDAR
VERSION:2.0
PRODID:-//Heparks v2 Staging - ECPv6.15.17.1//NONSGML v1.0//EN
CALSCALE:GREGORIAN
METHOD:PUBLISH
X-WR-CALNAME:Heparks v2 Staging
X-ORIGINAL-URL:https://v2-heparks.prolificdigital.io
X-WR-CALDESC:Events for Heparks v2 Staging
REFRESH-INTERVAL;VALUE=DURATION:PT1H
X-Robots-Tag:noindex
X-PUBLISHED-TTL:PT1H
BEGIN:VTIMEZONE
TZID:America/Chicago
BEGIN:DAYLIGHT
TZOFFSETFROM:-0600
TZOFFSETTO:-0500
TZNAME:CDT
DTSTART:20240310T080000
END:DAYLIGHT
BEGIN:STANDARD
TZOFFSETFROM:-0500
TZOFFSETTO:-0600
TZNAME:CST
DTSTART:20241103T070000
END:STANDARD
BEGIN:DAYLIGHT
TZOFFSETFROM:-0600
TZOFFSETTO:-0500
TZNAME:CDT
DTSTART:20250309T080000
END:DAYLIGHT
BEGIN:STANDARD
TZOFFSETFROM:-0500
TZOFFSETTO:-0600
TZNAME:CST
DTSTART:20251102T070000
END:STANDARD
BEGIN:DAYLIGHT
TZOFFSETFROM:-0600
TZOFFSETTO:-0500
TZNAME:CDT
DTSTART:20260308T080000
END:DAYLIGHT
BEGIN:STANDARD
TZOFFSETFROM:-0500
TZOFFSETTO:-0600
TZNAME:CST
DTSTART:20261101T070000
END:STANDARD
END:VTIMEZONE
BEGIN:VEVENT
DTSTART;TZID=America/Chicago:20251026T113000
DTEND;TZID=America/Chicago:20251026T130000
DTSTAMP:20260419T192103
CREATED:20250728T050000Z
LAST-MODIFIED:20251212T214743Z
UID:10000026-1761478200-1761483600@v2-heparks.prolificdigital.io
SUMMARY:Spooky Public Skate
DESCRIPTION:Have fun with friends and Family on the ice by skating in your Halloween costume. Make memories at our Spooky Public Skate on Sunday\, October 26\, 2025! Fun for the whole family\, or friends who feel like family and fun and active way to spend the day together. \n  Rental Skates Are Ready!\nJust $4 per pair – perfect for all ages to join the fun. Sizes range from Toddler Y8 through Adult 13. Skates and Skate Aids are available on a limited\, first-come first-served basis. \n⏰ Register Early & Save!\nLock in your spot online for just $7. Walk-up admission is $10\, so register ahead to skip the line and get straight to the celebration!
URL:https://v2-heparks.prolificdigital.io/event/spooky-public-skate/
ATTACH;FMTTYPE=image/png:https://v2-heparks.prolificdigital.io/wp-content/uploads/2025/12/spooky-skate.png
END:VEVENT
END:VCALENDAR