BEGIN:VCALENDAR
VERSION:2.0
PRODID:-//Heparks v2 Staging - ECPv6.15.17.1//NONSGML v1.0//EN
CALSCALE:GREGORIAN
METHOD:PUBLISH
X-ORIGINAL-URL:https://v2-heparks.prolificdigital.io
X-WR-CALDESC:Events for Heparks v2 Staging
REFRESH-INTERVAL;VALUE=DURATION:PT1H
X-Robots-Tag:noindex
X-PUBLISHED-TTL:PT1H
BEGIN:VTIMEZONE
TZID:America/Chicago
BEGIN:DAYLIGHT
TZOFFSETFROM:-0600
TZOFFSETTO:-0500
TZNAME:CDT
DTSTART:20240310T080000
END:DAYLIGHT
BEGIN:STANDARD
TZOFFSETFROM:-0500
TZOFFSETTO:-0600
TZNAME:CST
DTSTART:20241103T070000
END:STANDARD
BEGIN:DAYLIGHT
TZOFFSETFROM:-0600
TZOFFSETTO:-0500
TZNAME:CDT
DTSTART:20250309T080000
END:DAYLIGHT
BEGIN:STANDARD
TZOFFSETFROM:-0500
TZOFFSETTO:-0600
TZNAME:CST
DTSTART:20251102T070000
END:STANDARD
BEGIN:DAYLIGHT
TZOFFSETFROM:-0600
TZOFFSETTO:-0500
TZNAME:CDT
DTSTART:20260308T080000
END:DAYLIGHT
BEGIN:STANDARD
TZOFFSETFROM:-0500
TZOFFSETTO:-0600
TZNAME:CST
DTSTART:20261101T070000
END:STANDARD
END:VTIMEZONE
BEGIN:VEVENT
DTSTART;TZID=America/Chicago:20251011T080000
DTEND;TZID=America/Chicago:20251011T100000
DTSTAMP:20260419T192508
CREATED:20250325T050000Z
LAST-MODIFIED:20251212T214744Z
UID:10000010-1760169600-1760176800@v2-heparks.prolificdigital.io
SUMMARY:Seed Collection at Charlemagne
DESCRIPTION:Seed Collection at Charlemagne\n  \nSupport HEParks by Volunteering for this FREE event!  Come spend some time walking around the beautiful Charlemagne Park collecting native wildflower seeds and learning about conservation in this fun and educational activity. Tools and Gloves will be provided. All Ages Welcome.\n Charlemagne Park \n October 11\, 2025\n 8AM-10AM\n 
URL:https://v2-heparks.prolificdigital.io/event/seed-collection-at-charlemagne/
CATEGORIES:Volunteer Opportunity
ATTACH;FMTTYPE=image/jpeg:https://v2-heparks.prolificdigital.io/wp-content/uploads/2025/12/Wildflower-Seed-Gathering-092218-3.jpg
END:VEVENT
END:VCALENDAR