BEGIN:VCALENDAR
VERSION:2.0
PRODID:-//Heparks v2 Staging - ECPv6.15.17.1//NONSGML v1.0//EN
CALSCALE:GREGORIAN
METHOD:PUBLISH
X-ORIGINAL-URL:https://v2-heparks.prolificdigital.io
X-WR-CALDESC:Events for Heparks v2 Staging
REFRESH-INTERVAL;VALUE=DURATION:PT1H
X-Robots-Tag:noindex
X-PUBLISHED-TTL:PT1H
BEGIN:VTIMEZONE
TZID:America/Chicago
BEGIN:DAYLIGHT
TZOFFSETFROM:-0600
TZOFFSETTO:-0500
TZNAME:CDT
DTSTART:20240310T080000
END:DAYLIGHT
BEGIN:STANDARD
TZOFFSETFROM:-0500
TZOFFSETTO:-0600
TZNAME:CST
DTSTART:20241103T070000
END:STANDARD
BEGIN:DAYLIGHT
TZOFFSETFROM:-0600
TZOFFSETTO:-0500
TZNAME:CDT
DTSTART:20250309T080000
END:DAYLIGHT
BEGIN:STANDARD
TZOFFSETFROM:-0500
TZOFFSETTO:-0600
TZNAME:CST
DTSTART:20251102T070000
END:STANDARD
BEGIN:DAYLIGHT
TZOFFSETFROM:-0600
TZOFFSETTO:-0500
TZNAME:CDT
DTSTART:20260308T080000
END:DAYLIGHT
BEGIN:STANDARD
TZOFFSETFROM:-0500
TZOFFSETTO:-0600
TZNAME:CST
DTSTART:20261101T070000
END:STANDARD
END:VTIMEZONE
BEGIN:VEVENT
DTSTART;TZID=America/Chicago:20251005T113000
DTEND;TZID=America/Chicago:20251005T130000
DTSTAMP:20260419T192359
CREATED:20250909T050000Z
LAST-MODIFIED:20251212T214744Z
UID:10000031-1759663800-1759669200@v2-heparks.prolificdigital.io
SUMMARY:Ascension Pink the Rink Public Skate
DESCRIPTION:Join us for Ascension Pink the Rink Public Skate and help spread cancer awareness! Whether you’re a seasoned skater or just starting out\, this is your chance to support a worthy cause and have a blast on the ice. \n  Triphahn Ice Arena\n  Sunday\, October 5 | 11:30a-1:00p\n  $7 Pre-registration | $10 registration day of | $4 skate rental \nRegister today at https://sholink.to/pink-the-rink \n 
URL:https://v2-heparks.prolificdigital.io/event/ascension-pink-the-rink-public-skate/
CATEGORIES:Public Skate
ATTACH;FMTTYPE=image/png:https://v2-heparks.prolificdigital.io/wp-content/uploads/2025/12/Pink-the-Rink_v2_social-e1757455020598.png
END:VEVENT
END:VCALENDAR