BEGIN:VCALENDAR
VERSION:2.0
PRODID:-//Heparks v2 Staging - ECPv6.15.17.1//NONSGML v1.0//EN
CALSCALE:GREGORIAN
METHOD:PUBLISH
X-WR-CALNAME:Heparks v2 Staging
X-ORIGINAL-URL:https://v2-heparks.prolificdigital.io
X-WR-CALDESC:Events for Heparks v2 Staging
REFRESH-INTERVAL;VALUE=DURATION:PT1H
X-Robots-Tag:noindex
X-PUBLISHED-TTL:PT1H
BEGIN:VTIMEZONE
TZID:America/Chicago
BEGIN:DAYLIGHT
TZOFFSETFROM:-0600
TZOFFSETTO:-0500
TZNAME:CDT
DTSTART:20240310T080000
END:DAYLIGHT
BEGIN:STANDARD
TZOFFSETFROM:-0500
TZOFFSETTO:-0600
TZNAME:CST
DTSTART:20241103T070000
END:STANDARD
BEGIN:DAYLIGHT
TZOFFSETFROM:-0600
TZOFFSETTO:-0500
TZNAME:CDT
DTSTART:20250309T080000
END:DAYLIGHT
BEGIN:STANDARD
TZOFFSETFROM:-0500
TZOFFSETTO:-0600
TZNAME:CST
DTSTART:20251102T070000
END:STANDARD
BEGIN:DAYLIGHT
TZOFFSETFROM:-0600
TZOFFSETTO:-0500
TZNAME:CDT
DTSTART:20260308T080000
END:DAYLIGHT
BEGIN:STANDARD
TZOFFSETFROM:-0500
TZOFFSETTO:-0600
TZNAME:CST
DTSTART:20261101T070000
END:STANDARD
END:VTIMEZONE
BEGIN:VEVENT
DTSTART;TZID=America/Chicago:20250928T113000
DTEND;TZID=America/Chicago:20250928T130000
DTSTAMP:20260419T220918
CREATED:20250915T050000Z
LAST-MODIFIED:20251212T214744Z
UID:10000034-1759059000-1759064400@v2-heparks.prolificdigital.io
SUMMARY:Public Skate
DESCRIPTION:PUBLIC SKATE ALERT! \n\n\n \n\n\n Bring your friends and family for an unforgettable time on the ice! Whether you’re a skating pro or just starting out\, our rink is the perfect place to make memories.\n\n\n\n  Rental Skates Ready! Just $4 for a pair. Slide into the fun effortlessly! Sizes range from Toddler Y8 through Adult 13 * Skates and Skate Aids are on a limited basis available first-come first-served\n\n\n \n\n\n Early Bird Special: Register online for just $7! Not only do you save money\, ($10 for walk-up prices)\, but you can also skip the hassle of the payment line when you arrive. It’s all about more time skating\, less time waiting!  Don’t miss the HEParks fun! Register at this shortened link: https://tab.so/SkateSundays\n\n\n \n\n\n Spend your day with us\, laughing and skating in at Triphahn Center’s Ice Arena\, no matter the weather outside!
URL:https://v2-heparks.prolificdigital.io/event/public-skate-3/
CATEGORIES:Public Skate
ATTACH;FMTTYPE=image/png:https://v2-heparks.prolificdigital.io/wp-content/uploads/2025/12/Public-Skate-Callout-2-e1757710635417.png
END:VEVENT
END:VCALENDAR