BEGIN:VCALENDAR
VERSION:2.0
PRODID:-//Heparks v2 Staging - ECPv6.15.17.1//NONSGML v1.0//EN
CALSCALE:GREGORIAN
METHOD:PUBLISH
X-WR-CALNAME:Heparks v2 Staging
X-ORIGINAL-URL:https://v2-heparks.prolificdigital.io
X-WR-CALDESC:Events for Heparks v2 Staging
REFRESH-INTERVAL;VALUE=DURATION:PT1H
X-Robots-Tag:noindex
X-PUBLISHED-TTL:PT1H
BEGIN:VTIMEZONE
TZID:America/Chicago
BEGIN:DAYLIGHT
TZOFFSETFROM:-0600
TZOFFSETTO:-0500
TZNAME:CDT
DTSTART:20240310T080000
END:DAYLIGHT
BEGIN:STANDARD
TZOFFSETFROM:-0500
TZOFFSETTO:-0600
TZNAME:CST
DTSTART:20241103T070000
END:STANDARD
BEGIN:DAYLIGHT
TZOFFSETFROM:-0600
TZOFFSETTO:-0500
TZNAME:CDT
DTSTART:20250309T080000
END:DAYLIGHT
BEGIN:STANDARD
TZOFFSETFROM:-0500
TZOFFSETTO:-0600
TZNAME:CST
DTSTART:20251102T070000
END:STANDARD
BEGIN:DAYLIGHT
TZOFFSETFROM:-0600
TZOFFSETTO:-0500
TZNAME:CDT
DTSTART:20260308T080000
END:DAYLIGHT
BEGIN:STANDARD
TZOFFSETFROM:-0500
TZOFFSETTO:-0600
TZNAME:CST
DTSTART:20261101T070000
END:STANDARD
END:VTIMEZONE
BEGIN:VEVENT
DTSTART;TZID=America/Chicago:20250917T173000
DTEND;TZID=America/Chicago:20250917T180000
DTSTAMP:20260419T204033
CREATED:20250529T050000Z
LAST-MODIFIED:20251212T214745Z
UID:10000021-1758130200-1758132000@v2-heparks.prolificdigital.io
SUMMARY:GO Hoffman Estates Walking Club
DESCRIPTION:Go Hoffman Walking Club is back!\nJoin the GO Hoffman Estates Walking Club on a Fall Stroller Walk starting at Fabbrini Park (meeting by the parking lot) at 5:30pm on Wednesday\, September 17th. The walk will be approximately 30 minutes. Pet friendly. Parking will be available at Fabbrini Park or MacArthur school.\nFall theme: Stroller Walking ✨Bring your little ones\, meet other families\, and enjoy a walk together through our community.\n  Fabbrini Park Pavilion  5:30 PM  FREE for all!\nIt’s a simple way to get moving\, connect with neighbors\, and make memories with your family.
URL:https://v2-heparks.prolificdigital.io/event/go-hoffman-estates-walking-club/
CATEGORIES:Special Events
ATTACH;FMTTYPE=image/png:https://v2-heparks.prolificdigital.io/wp-content/uploads/2025/12/GO-HOFFMAN-01.png
END:VEVENT
END:VCALENDAR