BEGIN:VCALENDAR
VERSION:2.0
PRODID:-//Heparks v2 Staging - ECPv6.15.17.1//NONSGML v1.0//EN
CALSCALE:GREGORIAN
METHOD:PUBLISH
X-WR-CALNAME:Heparks v2 Staging
X-ORIGINAL-URL:https://v2-heparks.prolificdigital.io
X-WR-CALDESC:Events for Heparks v2 Staging
REFRESH-INTERVAL;VALUE=DURATION:PT1H
X-Robots-Tag:noindex
X-PUBLISHED-TTL:PT1H
BEGIN:VTIMEZONE
TZID:America/Chicago
BEGIN:DAYLIGHT
TZOFFSETFROM:-0600
TZOFFSETTO:-0500
TZNAME:CDT
DTSTART:20240310T080000
END:DAYLIGHT
BEGIN:STANDARD
TZOFFSETFROM:-0500
TZOFFSETTO:-0600
TZNAME:CST
DTSTART:20241103T070000
END:STANDARD
BEGIN:DAYLIGHT
TZOFFSETFROM:-0600
TZOFFSETTO:-0500
TZNAME:CDT
DTSTART:20250309T080000
END:DAYLIGHT
BEGIN:STANDARD
TZOFFSETFROM:-0500
TZOFFSETTO:-0600
TZNAME:CST
DTSTART:20251102T070000
END:STANDARD
BEGIN:DAYLIGHT
TZOFFSETFROM:-0600
TZOFFSETTO:-0500
TZNAME:CDT
DTSTART:20260308T080000
END:DAYLIGHT
BEGIN:STANDARD
TZOFFSETFROM:-0500
TZOFFSETTO:-0600
TZNAME:CST
DTSTART:20261101T070000
END:STANDARD
END:VTIMEZONE
BEGIN:VEVENT
DTSTART;TZID=America/Chicago:20250907T120000
DTEND;TZID=America/Chicago:20250907T170000
DTSTAMP:20260419T204030
CREATED:20250813T050000Z
LAST-MODIFIED:20251212T214745Z
UID:10000028-1757246400-1757264400@v2-heparks.prolificdigital.io
SUMMARY:Kinderplatz: HEParks Kids’ Activity Zone at Platzkonzert
DESCRIPTION:Kinderplatz: HEParks Kids’ Activity Zone at Platzkonzert  \nFrom crafts to games\, join HEParks at Kinderplatz on Sept. 6 & 7\, 12–5 PM for hands-on fun the whole family will love!\nStep into KINDERPLATZ\, the ultimate children’s activity area at Platzkonzert! HEParks will be on-site with engaging crafts\, interactive games\, and activities designed just for kids. It’s the perfect place for little festival-goers to explore\, create\, and have fun while parents enjoy the music\, food\, and festivities around them  .\nThis is a FREE event!\nWhen: Saturday\, Sept. 6 & Sunday\, Sept. 7 | 12–5 PMWhere: Kinderplatz Area\, Platzkonzert\, Hoffman Estates Village Green
URL:https://v2-heparks.prolificdigital.io/event/kinderplatz-heparks-kids-activity-zone-at-platzkonzert-2/
CATEGORIES:Special Events
ATTACH;FMTTYPE=image/png:https://v2-heparks.prolificdigital.io/wp-content/uploads/2025/12/Kinderplatz_webevent.png
END:VEVENT
END:VCALENDAR